BEGIN:VCALENDAR
VERSION:2.0
BEGIN:VEVENT
URL:https://thelastchance.oztix.com.au/outlet/event/14046a72-86f4-46a6-bdae-bad190cf81f7
DTSTART:20260530T100000Z
DTEND:20260530T100000Z
SUMMARY:The Miffs Last Show & Last Chance's 10th Birthday!
DESCRIPTION:Event details: https://thelastchance.oztix.com.au/outlet/event/14046a72-86f4-46a6-bdae-bad190cf81f7
LOCATION:The Last Chance Rock & Roll Bar (North Melbourne, VIC)
END:VEVENT
END:VCALENDAR